BEGIN:VCALENDAR
VERSION:2.0
PRODID:-//White Mountain Druids - ECPv6.15.20//NONSGML v1.0//EN
CALSCALE:GREGORIAN
METHOD:PUBLISH
X-ORIGINAL-URL:https://whitemountaindruids.org
X-WR-CALDESC:Events for White Mountain Druids
REFRESH-INTERVAL;VALUE=DURATION:PT1H
X-Robots-Tag:noindex
X-PUBLISHED-TTL:PT1H
BEGIN:VTIMEZONE
TZID:UTC
BEGIN:STANDARD
TZOFFSETFROM:+0000
TZOFFSETTO:+0000
TZNAME:UTC
DTSTART:20180101T000000
END:STANDARD
END:VTIMEZONE
BEGIN:VEVENT
DTSTART;TZID=UTC:20190803T193000
DTEND;TZID=UTC:20190803T213000
DTSTAMP:20260419T131856
CREATED:20181202T094114Z
LAST-MODIFIED:20181212T053122Z
UID:128-1564860600-1564867800@whitemountaindruids.org
SUMMARY:Lughnasadh Ritual and Celebration
DESCRIPTION:We will be celebrating Lughnasadh at the White Mountain Druid Sanctary at Trout Lake Abbey on Saturday\, August 3\, 2019\, with the pre-ritual briefing starting at 7:30 pm. This will be an Irish pantheon rite. Bíodh sé amhlaidh! \nThis is the rite of the Sovereignty of Lugh Samildanach. He manages this through the good offices of the Goddess of Sovereignty here in Trout Lake\, the Lady of the White Salmon. This is also a rite of the harvest as our crops begin to ripen and the fruits of our labors are available to us all. \nWe will hold this rite outdoors in the stone circle.  We will be honoring the God Lugh Samildanach and the Lady of the White Salmon (the goddess of Trout Lake Valley)\, at this rite. Appropriate offerings include first fruits from your garden\, produce\, whiskey\, beer\, butter or oil\, precious metal or stones\, etc..  As always\, praise offerings of song\, poetry\, dance\, etc. are always welcome. \nThere will be a potluck following the ritual\, held in the main house. \nWe look forward to seeing you here on Saturday\, August 3!
URL:https://whitemountaindruids.org/event/lughnasadh-ritual-and-celebration/
LOCATION:White Mountain Druid Sanctuary at Trout Lake Abbey\, 46 Stoller Road\, Trout Lake\, WA\, 98650\, United States
ATTACH;FMTTYPE=image/jpeg:https://whitemountaindruids.org/wp-content/uploads/2018/12/Lugh-Icon.jpg
END:VEVENT
END:VCALENDAR