BEGIN:VCALENDAR
VERSION:2.0
PRODID:-//White Mountain Druids - ECPv6.15.20//NONSGML v1.0//EN
CALSCALE:GREGORIAN
METHOD:PUBLISH
X-WR-CALNAME:White Mountain Druids
X-ORIGINAL-URL:https://whitemountaindruids.org
X-WR-CALDESC:Events for White Mountain Druids
REFRESH-INTERVAL;VALUE=DURATION:PT1H
X-Robots-Tag:noindex
X-PUBLISHED-TTL:PT1H
BEGIN:VTIMEZONE
TZID:UTC
BEGIN:STANDARD
TZOFFSETFROM:+0000
TZOFFSETTO:+0000
TZNAME:UTC
DTSTART:20180101T000000
END:STANDARD
END:VTIMEZONE
BEGIN:VEVENT
DTSTART;TZID=UTC:20190928T180000
DTEND;TZID=UTC:20190928T200000
DTSTAMP:20260419T115337
CREATED:20190830T041621Z
LAST-MODIFIED:20190830T050255Z
UID:166-1569693600-1569700800@whitemountaindruids.org
SUMMARY:Autumn Equinox Ritual
DESCRIPTION:We will celebrate Autumn Equinox at the White Mountain Druid Sanctuary at Trout Lake Abbey. This will be a Hellenic Celebration of the Goddess Persephone and Her Mother\, Demeter. Esto! \nSaturday\, September 28\, 2019\nGathering at 6:00 pm \n46 Stoller Road\nTrout Lake\, WA 98650\n(On Google maps search for Trout Lake Abbey) \nThis is a rite of balance and the second harvest as Autumn gets into full swing with the Earth growing colder. Our beautiful summer weather has begun to turn\, and winter is on its way. When Persephone was abducted by Hades\, her mother Demeter allowed all plant life to wither and die\, just as our winter is a time of quiet and death. But this is also a story of rebirth\, and the great cycle of life. \nWe will hold this rite outdoors in the stone circle. We will be honoring the Goddesses Demeter and Persephone at this rite. Appropriate offerings include produce from your garden\, wine\, pomegranates\, barley products\, beer\, oil\, etc. As always\, praise offerings of song\, poetry\, dance\, etc. are always welcome. \nThere will be a potluck following the ritual\, held in the main house.
URL:https://whitemountaindruids.org/event/autumn-equinox-ritual/
LOCATION:WA
ATTACH;FMTTYPE=image/jpeg:https://whitemountaindruids.org/wp-content/uploads/2019/08/HadesPersephone.jpg
END:VEVENT
END:VCALENDAR