BEGIN:VCALENDAR
VERSION:2.0
PRODID:-//White Mountain Druids - ECPv6.15.20//NONSGML v1.0//EN
CALSCALE:GREGORIAN
METHOD:PUBLISH
X-WR-CALNAME:White Mountain Druids
X-ORIGINAL-URL:https://whitemountaindruids.org
X-WR-CALDESC:Events for White Mountain Druids
REFRESH-INTERVAL;VALUE=DURATION:PT1H
X-Robots-Tag:noindex
X-PUBLISHED-TTL:PT1H
BEGIN:VTIMEZONE
TZID:UTC
BEGIN:STANDARD
TZOFFSETFROM:+0000
TZOFFSETTO:+0000
TZNAME:UTC
DTSTART:20180101T000000
END:STANDARD
END:VTIMEZONE
BEGIN:VEVENT
DTSTART;TZID=UTC:20191221T153000
DTEND;TZID=UTC:20191221T183000
DTSTAMP:20260419T073111
CREATED:20190830T053427Z
LAST-MODIFIED:20190830T053706Z
UID:176-1576942200-1576953000@whitemountaindruids.org
SUMMARY:Winter Solstice Ritual
DESCRIPTION:We will be celebrating the Winter Solstice at Trout Lake Abbey on Saturday\, December 21\, 2019\,  at 3:30 pm. This will be a Welsh pantheon rite. Bydded felly!\n\nSaturday\, December 21\, 2019\n3:30 pm\n\nThis is the rite of the longest night\, and of the Return of the Sun.\n\nWe will be honoring the deities Lleu Llaw Gyffes and His uncle\, Gwydion. Appropriate offerings for Lleu include whiskey\, images of eagles or other birds\, oil or butter. Offerings for Gwydion include whiskey\, magical items\, songs or poetry. As always\, praise offerings are always welcome.\n\nWe will hold this rite indoors in the Sanctuary.  The room is heated but do dress warmly for the procession and be prepared to walk in rain\, should there be any.\n\nWe look forward to seeing you here on Saturday\, 21 December!
URL:https://whitemountaindruids.org/event/winter-solstice-ritual-2/
LOCATION:WA
ATTACH;FMTTYPE=image/jpeg:https://whitemountaindruids.org/wp-content/uploads/2019/08/LleuStatue.jpg
END:VEVENT
END:VCALENDAR