BEGIN:VCALENDAR
VERSION:2.0
PRODID:-//White Mountain Druids - ECPv6.15.20//NONSGML v1.0//EN
CALSCALE:GREGORIAN
METHOD:PUBLISH
X-ORIGINAL-URL:https://whitemountaindruids.org
X-WR-CALDESC:Events for White Mountain Druids
REFRESH-INTERVAL;VALUE=DURATION:PT1H
X-Robots-Tag:noindex
X-PUBLISHED-TTL:PT1H
BEGIN:VTIMEZONE
TZID:UTC
BEGIN:STANDARD
TZOFFSETFROM:+0000
TZOFFSETTO:+0000
TZNAME:UTC
DTSTART:20170101T000000
END:STANDARD
END:VTIMEZONE
BEGIN:VEVENT
DTSTART;TZID=UTC:20180804T193000
DTEND;TZID=UTC:20180804T210000
DTSTAMP:20260420T060416
CREATED:20180729T085233Z
LAST-MODIFIED:20180729T085557Z
UID:102-1533411000-1533416400@whitemountaindruids.org
SUMMARY:Lughnasadh Ritual
DESCRIPTION:We will be celebrating Lughnasadh at the White Mountain Druid Sanctary at Trout Lake Abbey on Saturday\, August 4\, 2018\, with the pre-ritual briefing starting at 7:30 pm. This will be an Irish pantheon rite. Bíodh sé amhlaidh! \nTrout Lake Abbey\n46 Stoller Road\nTrout Lake\, WA 98650 \n509-395-2030 \nThis is the rite of the Sovereignty of Lugh Samildanach. He manages this through the good offices of the Goddess of Sovereignty here in Trout Lake\, the Lady of the White Salmon. This is also a rite of the harvest as our crops begin to ripen and the fruits of our labors are available to us all. \nWe will hold this rite outdoors in the stone circle.  We will be honoring the God Lugh Samildanach and the Lady of the White Salmon (the goddess of Trout Lake Valley)\, at this rite. Appropriate offerings include first fruits from your garden\, produce\, whiskey\, beer\, butter or oil\, precious metal or stones\, etc..  As always\, praise offerings of song\, poetry\, dance\, etc. are always welcome. \nThe weather report\, as of now\, is for sunny skies on Saturday with a high of 81\, a 0% chance of rain\, and winds at 11 mph (but they should drop by sunset). Bring a hat (or parasol)\, if you have one\, and don’t forget the sunscreen! The sun will still be up when we process to the Stone Circle. Once the sun sets\, however\, it can get chilly\, so be sure to layer. \nThere will be a potluck following the ritual\, held in the main house. \nWe look forward to seeing you here on Saturday\, August 4!
URL:https://whitemountaindruids.org/event/lughnasadh-ritual/
LOCATION:White Mountain Druid Sanctuary at Trout Lake Abbey\, 46 Stoller Road\, Trout Lake\, WA\, 98650\, United States
END:VEVENT
END:VCALENDAR