BEGIN:VCALENDAR
VERSION:2.0
PRODID:-//White Mountain Druids - ECPv6.15.20//NONSGML v1.0//EN
CALSCALE:GREGORIAN
METHOD:PUBLISH
X-ORIGINAL-URL:https://whitemountaindruids.org
X-WR-CALDESC:Events for White Mountain Druids
REFRESH-INTERVAL;VALUE=DURATION:PT1H
X-Robots-Tag:noindex
X-PUBLISHED-TTL:PT1H
BEGIN:VTIMEZONE
TZID:UTC
BEGIN:STANDARD
TZOFFSETFROM:+0000
TZOFFSETTO:+0000
TZNAME:UTC
DTSTART:20170101T000000
END:STANDARD
END:VTIMEZONE
BEGIN:VEVENT
DTSTART;TZID=UTC:20181222T153000
DTEND;TZID=UTC:20181222T183000
DTSTAMP:20260420T000811
CREATED:20181202T083726Z
LAST-MODIFIED:20181212T052524Z
UID:111-1545492600-1545503400@whitemountaindruids.org
SUMMARY:Winter Solstice Ritual and Celebration
DESCRIPTION:  \nWe will be celebrating the Winter Solstice at Trout Lake Abbey on Saturday\, December 22\, 2018\, at 3:30 pm. This will be a Welsh pantheon rite. Bydded felly! \nThis is the rite of the longest night\, and of the Return of the Sun. \nWe will be honoring the deities Lleu Llaw Gyffes and His uncle\, Gwydion. Appropriate offerings for Lleu include whiskey\, images of eagles or other birds\, oil or butter. Offerings for Gwydion include whiskey\, magical items\, songs or poetry. As always\, praise offerings are always welcome. \nWe will hold this rite indoors in the Sanctuary.  The room is heated but do dress warmly for the procession and be prepared to walk in the snow\, should there still be any. \nThere will be a potluck following the ritual\, held in the Fireside Room in the main house. \nWe look forward to seeing you here on Saturday\, 22 December!
URL:https://whitemountaindruids.org/event/winter-solstice-ritual-and-celebration/
LOCATION:White Mountain Druid Sanctuary at Trout Lake Abbey\, 46 Stoller Road\, Trout Lake\, WA\, 98650\, United States
ATTACH;FMTTYPE=image/jpeg:https://whitemountaindruids.org/wp-content/uploads/2018/12/With-Candles-2-sm.jpg
END:VEVENT
END:VCALENDAR