BEGIN:VCALENDAR
VERSION:2.0
PRODID:-//White Mountain Druids - ECPv6.15.20//NONSGML v1.0//EN
CALSCALE:GREGORIAN
METHOD:PUBLISH
X-ORIGINAL-URL:https://whitemountaindruids.org
X-WR-CALDESC:Events for White Mountain Druids
REFRESH-INTERVAL;VALUE=DURATION:PT1H
X-Robots-Tag:noindex
X-PUBLISHED-TTL:PT1H
BEGIN:VTIMEZONE
TZID:UTC
BEGIN:STANDARD
TZOFFSETFROM:+0000
TZOFFSETTO:+0000
TZNAME:UTC
DTSTART:20180101T000000
END:STANDARD
END:VTIMEZONE
BEGIN:VEVENT
DTSTART;TZID=UTC:20191102T170000
DTEND;TZID=UTC:20191102T200000
DTSTAMP:20260419T073234
CREATED:20190830T051159Z
LAST-MODIFIED:20190830T053802Z
UID:173-1572714000-1572724800@whitemountaindruids.org
SUMMARY:Samhain Ritual
DESCRIPTION:We will be celebrating Samhain at Trout Lake Abbey on Saturday\, November 2\, 2019\, at 5:00 pm. This will be an Irish Gaelic pantheon rite for the liminal time of sunset at this hinge of the year. \nSaturday\, November 2\, 2019\nGathering at 5:00 pm \n46 Stoller Road\nTrout Lake\, WA 98650\n(On Google maps search for Trout Lake Abbey) \nThis is the rite of the final harvest where we honor our Ancestors and all the Sacred Dead. Be prepared to honor any of your Sacred Dead who have passed on since Samhain last year. We will also be honoring An Morrigan\, Goddess of war\, death\, and transformation; An Dagda\, God of fertility and appetite; and Donn\, God of the Dead. \nAppropriate offerings for our Ancestors include pork or other food\, beer\, or items of sentimental value\, etc. Offerings for the Morrigan include red wine\, chocolate\, whiskey\, etc.  Offerings for the Dagda include porridge\, whiskey\, beer\, pork\, etc. Offerings for Donn include alcohol and silver. As always\, praise offerings of song\, poetry\, dance\, etc. are always welcome. \nThis time of year the weather can be quite changeable\, though\, so do watch the weather reports. In the event that the weather is dry we will hold this rite outdoors in the Stone Circle. Do dress warmly and in layers – bring your winter coats\, hats\, and gloves. The temperature drops suddenly once the sun sets this time of year. \nThere will be a potluck following the ritual\, held in the main house. Please bring something to share.
URL:https://whitemountaindruids.org/event/samhain-ritual/
LOCATION:WA
ATTACH;FMTTYPE=image/jpeg:https://whitemountaindruids.org/wp-content/uploads/2019/08/IMG_20171028_163947_594.jpg
END:VEVENT
END:VCALENDAR